BEGIN:VCALENDAR
VERSION:2.0
PRODID:icalendar-ruby
CALSCALE:GREGORIAN
METHOD:PUBLISH
BEGIN:VEVENT
DTSTAMP:20260420T072235Z
UID:13-646727@refugebaptist.church
DTSTART:20260726T210000Z
DTEND:20260726T220000Z
CLASS:PUBLIC
CREATED:20260420T031644
DESCRIPTION:
LAST-MODIFIED:20260420T031644
LOCATION:736 Wyndamere Road\, Lewisberry\, PA 17339
SUMMARY:Sunday Evening - Prayer Meeting
URL;VALUE=URI:https://www.refugebaptist.church/events/sunday-evening-prayer
 -meeting/2026-07-26
END:VEVENT
END:VCALENDAR
