BEGIN:VCALENDAR
VERSION:2.0
PRODID:icalendar-ruby
CALSCALE:GREGORIAN
METHOD:PUBLISH
BEGIN:VEVENT
DTSTAMP:20260422T115039Z
UID:13-653366@refugebaptist.church
DTSTART:20260816T210000Z
DTEND:20260816T220000Z
CLASS:PUBLIC
CREATED:20260421T211056
DESCRIPTION:
LAST-MODIFIED:20260421T211056
LOCATION:736 Wyndamere Road\, Lewisberry\, PA 17339
SUMMARY:Sunday Evening - Prayer Meeting
URL;VALUE=URI:https://www.refugebaptist.church/events/sunday-evening-prayer
 -meeting/2026-08-16
END:VEVENT
END:VCALENDAR
