BEGIN:VCALENDAR
VERSION:2.0
PRODID:icalendar-ruby
CALSCALE:GREGORIAN
METHOD:PUBLISH
BEGIN:VEVENT
DTSTAMP:20260422T134418Z
UID:13-653920@refugebaptist.church
DTSTART:20260823T210000Z
DTEND:20260823T220000Z
CLASS:PUBLIC
CREATED:20260422T081643
DESCRIPTION:
LAST-MODIFIED:20260422T081643
LOCATION:736 Wyndamere Road\, Lewisberry\, PA 17339
SUMMARY:Sunday Evening - Prayer Meeting
URL;VALUE=URI:https://www.refugebaptist.church/events/sunday-evening-prayer
 -meeting/2026-08-23
END:VEVENT
END:VCALENDAR
