BEGIN:VCALENDAR
VERSION:2.0
PRODID:icalendar-ruby
CALSCALE:GREGORIAN
METHOD:PUBLISH
BEGIN:VEVENT
DTSTAMP:20260422T201825Z
UID:13-655030@refugebaptist.church
DTSTART:20260920T210000Z
DTEND:20260920T220000Z
CLASS:PUBLIC
CREATED:20260422T140653
DESCRIPTION:
LAST-MODIFIED:20260422T140653
LOCATION:736 Wyndamere Road\, Lewisberry\, PA 17339
SUMMARY:Sunday Evening - Prayer Meeting
URL;VALUE=URI:https://www.refugebaptist.church/events/sunday-evening-prayer
 -meeting/2026-09-20
END:VEVENT
END:VCALENDAR
