BEGIN:VCALENDAR
VERSION:2.0
PRODID:icalendar-ruby
CALSCALE:GREGORIAN
METHOD:PUBLISH
BEGIN:VEVENT
DTSTAMP:20260423T034712Z
UID:13-656694@refugebaptist.church
DTSTART:20261025T210000Z
DTEND:20261025T220000Z
CLASS:PUBLIC
CREATED:20260422T224740
DESCRIPTION:
LAST-MODIFIED:20260422T224740
LOCATION:736 Wyndamere Road\, Lewisberry\, PA 17339
SUMMARY:Sunday Evening - Prayer Meeting
URL;VALUE=URI:https://www.refugebaptist.church/events/sunday-evening-prayer
 -meeting/2026-10-25
END:VEVENT
END:VCALENDAR
