BEGIN:VCALENDAR
VERSION:2.0
PRODID:icalendar-ruby
CALSCALE:GREGORIAN
METHOD:PUBLISH
BEGIN:VEVENT
DTSTAMP:20260423T052150Z
UID:13-656695@refugebaptist.church
DTSTART:20261101T220000Z
DTEND:20261101T230000Z
CLASS:PUBLIC
CREATED:20260422T224740
DESCRIPTION:
LAST-MODIFIED:20260422T224740
LOCATION:736 Wyndamere Road\, Lewisberry\, PA 17339
SUMMARY:Sunday Evening - Prayer Meeting
URL;VALUE=URI:https://www.refugebaptist.church/events/sunday-evening-prayer
 -meeting/2026-11-01
END:VEVENT
END:VCALENDAR
