BEGIN:VCALENDAR
VERSION:2.0
PRODID:icalendar-ruby
CALSCALE:GREGORIAN
METHOD:PUBLISH
BEGIN:VEVENT
DTSTAMP:20260422T204915Z
UID:14-655144@refugebaptist.church
DTSTART:20260816T220000Z
DTEND:20260816T230000Z
CLASS:PUBLIC
CREATED:20260422T140653
DESCRIPTION:
LAST-MODIFIED:20260422T140653
LOCATION:736 Wyndamere Road\, Lewisberry\, PA 17339
SUMMARY:Sunday Evening Service
URL;VALUE=URI:https://www.refugebaptist.church/events/sunday-evening-servic
 e/2026-08-16
END:VEVENT
END:VCALENDAR
