BEGIN:VCALENDAR
VERSION:2.0
PRODID:icalendar-ruby
CALSCALE:GREGORIAN
METHOD:PUBLISH
BEGIN:VEVENT
DTSTAMP:20260423T011756Z
UID:14-656253@refugebaptist.church
DTSTART:20260906T220000Z
DTEND:20260906T230000Z
CLASS:PUBLIC
CREATED:20260422T195342
DESCRIPTION:
LAST-MODIFIED:20260422T195342
LOCATION:736 Wyndamere Road\, Lewisberry\, PA 17339
SUMMARY:Sunday Evening Service
URL;VALUE=URI:https://www.refugebaptist.church/events/sunday-evening-servic
 e/2026-09-06
END:VEVENT
END:VCALENDAR
