BEGIN:VCALENDAR
VERSION:2.0
PRODID:icalendar-ruby
CALSCALE:GREGORIAN
METHOD:PUBLISH
BEGIN:VEVENT
DTSTAMP:20260423T082425Z
UID:14-656811@refugebaptist.church
DTSTART:20261011T220000Z
DTEND:20261011T230000Z
CLASS:PUBLIC
CREATED:20260422T224741
DESCRIPTION:
LAST-MODIFIED:20260422T224741
LOCATION:736 Wyndamere Road\, Lewisberry\, PA 17339
SUMMARY:Sunday Evening Service
URL;VALUE=URI:https://www.refugebaptist.church/events/sunday-evening-servic
 e/2026-10-11
END:VEVENT
END:VCALENDAR
