BEGIN:VCALENDAR
VERSION:2.0
PRODID:icalendar-ruby
CALSCALE:GREGORIAN
METHOD:PUBLISH
BEGIN:VEVENT
DTSTAMP:20260423T133002Z
UID:14-657368@refugebaptist.church
DTSTART:20261101T230000Z
DTEND:20261102T000000Z
CLASS:PUBLIC
CREATED:20260423T081757
DESCRIPTION:
LAST-MODIFIED:20260423T081757
LOCATION:736 Wyndamere Road\, Lewisberry\, PA 17339
SUMMARY:Sunday Evening Service
URL;VALUE=URI:https://www.refugebaptist.church/events/sunday-evening-servic
 e/2026-11-01
END:VEVENT
END:VCALENDAR
