BEGIN:VCALENDAR
VERSION:2.0
PRODID:icalendar-ruby
CALSCALE:GREGORIAN
METHOD:PUBLISH
BEGIN:VEVENT
DTSTAMP:20260419T133519Z
UID:87-642769@refugebaptist.church
DTSTART:20260424T210000Z
DTEND:20260425T010000Z
CLASS:PUBLIC
CREATED:20260418T222207
DESCRIPTION:Cost: $15\nHighlights include:\nSpecial Speaker\nDelisious Food
 \nAwards\nFellowship &amp\; Fun\nDress nice\, bring a friend and come hung
 ry!
LAST-MODIFIED:20260418T222207
LOCATION:736 Wyndamere Road\, Lewisberry\, PA 17339
SUMMARY:The Feast
URL;VALUE=URI:https://www.refugebaptist.church/events/the-feast/2026-04-24
ATTACH;FILENAME=Designer-26.png;FMTTYPE=image/png:https://dq5pwpg1q8ru0.clo
 udfront.net/2026/04/19/02/22/07/ca18a913-ef32-4e26-9698-243f1d1fdf93/Desig
 ner-26.png
END:VEVENT
END:VCALENDAR
