BEGIN:VCALENDAR
VERSION:2.0
PRODID:icalendar-ruby
CALSCALE:GREGORIAN
METHOD:PUBLISH
BEGIN:VEVENT
DTSTAMP:20260422T170853Z
UID:15-654710@refugebaptist.church
DTSTART:20260805T230000Z
DTEND:20260806T000000Z
CLASS:PUBLIC
CREATED:20260422T111148
DESCRIPTION:
LAST-MODIFIED:20260422T111148
LOCATION:736 Wyndamere Road\, Lewisberry\, PA  17339
SUMMARY:Wednesday Evening
URL;VALUE=URI:https://www.refugebaptist.church/events/wednesday-evening/202
 6-08-05
END:VEVENT
END:VCALENDAR
