BEGIN:VCALENDAR
VERSION:2.0
PRODID:icalendar-ruby
CALSCALE:GREGORIAN
METHOD:PUBLISH
BEGIN:VEVENT
DTSTAMP:20260422T201649Z
UID:15-655265@refugebaptist.church
DTSTART:20260819T230000Z
DTEND:20260820T000000Z
CLASS:PUBLIC
CREATED:20260422T140653
DESCRIPTION:
LAST-MODIFIED:20260422T140653
LOCATION:736 Wyndamere Road\, Lewisberry\, PA  17339
SUMMARY:Wednesday Evening
URL;VALUE=URI:https://www.refugebaptist.church/events/wednesday-evening/202
 6-08-19
END:VEVENT
END:VCALENDAR
