BEGIN:VCALENDAR
VERSION:2.0
PRODID:icalendar-ruby
CALSCALE:GREGORIAN
METHOD:PUBLISH
BEGIN:VEVENT
DTSTAMP:20260422T231905Z
UID:15-655820@refugebaptist.church
DTSTART:20260902T230000Z
DTEND:20260903T000000Z
CLASS:PUBLIC
CREATED:20260422T170158
DESCRIPTION:
LAST-MODIFIED:20260422T170158
LOCATION:736 Wyndamere Road\, Lewisberry\, PA  17339
SUMMARY:Wednesday Evening
URL;VALUE=URI:https://www.refugebaptist.church/events/wednesday-evening/202
 6-09-02
END:VEVENT
END:VCALENDAR
