BEGIN:VCALENDAR
VERSION:2.0
PRODID:icalendar-ruby
CALSCALE:GREGORIAN
METHOD:PUBLISH
BEGIN:VEVENT
DTSTAMP:20260423T021836Z
UID:15-656375@refugebaptist.church
DTSTART:20260916T230000Z
DTEND:20260917T000000Z
CLASS:PUBLIC
CREATED:20260422T195342
DESCRIPTION:
LAST-MODIFIED:20260422T195342
LOCATION:736 Wyndamere Road\, Lewisberry\, PA  17339
SUMMARY:Wednesday Evening
URL;VALUE=URI:https://www.refugebaptist.church/events/wednesday-evening/202
 6-09-16
END:VEVENT
END:VCALENDAR
