BEGIN:VCALENDAR
VERSION:2.0
PRODID:icalendar-ruby
CALSCALE:GREGORIAN
METHOD:PUBLISH
BEGIN:VEVENT
DTSTAMP:20260423T140318Z
UID:15-657489@refugebaptist.church
DTSTART:20261105T000000Z
DTEND:20261105T010000Z
CLASS:PUBLIC
CREATED:20260423T081758
DESCRIPTION:
LAST-MODIFIED:20260423T081758
LOCATION:736 Wyndamere Road\, Lewisberry\, PA  17339
SUMMARY:Wednesday Evening
URL;VALUE=URI:https://www.refugebaptist.church/events/wednesday-evening/202
 6-11-04
END:VEVENT
END:VCALENDAR
